Package: ggtreeExtra Version: 1.17.0 Command: /Library/Frameworks/R.framework/Resources/bin/R CMD INSTALL ggtreeExtra StartedAt: 2025-02-12 15:18:29 -0500 (Wed, 12 Feb 2025) EndedAt: 2025-02-12 15:18:38 -0500 (Wed, 12 Feb 2025) EllapsedTime: 9.1 seconds RetCode: 0 Status: OK