Package: ggtreeExtra Version: 1.17.0 Command: /home/biocbuild/bbs-3.21-bioc/R/bin/R CMD build --keep-empty-dirs --no-resave-data ggtreeExtra StartedAt: 2025-02-12 17:23:06 -0500 (Wed, 12 Feb 2025) EndedAt: 2025-02-12 17:23:23 -0500 (Wed, 12 Feb 2025) EllapsedTime: 17.0 seconds RetCode: 0 Status: OK PackageFile: ggtreeExtra_1.17.0.tar.gz PackageFileSize: 523.7 KiB