Package: ggtreeExtra Version: 1.17.0 Command: /home/biocbuild/bbs-3.21-bioc/R/bin/R CMD check --install=check:ggtreeExtra.install-out.txt --library=/home/biocbuild/bbs-3.21-bioc/R/site-library --timings ggtreeExtra_1.17.0.tar.gz StartedAt: 2025-02-12 22:47:11 -0500 (Wed, 12 Feb 2025) EndedAt: 2025-02-12 22:48:07 -0500 (Wed, 12 Feb 2025) EllapsedTime: 55.2 seconds RetCode: 0 Status: OK CheckDir: ggtreeExtra.Rcheck Warnings: 0