Package: ginmappeR Version: 1.3.3 Command: /Library/Frameworks/R.framework/Resources/bin/R CMD check --install=check:ginmappeR.install-out.txt --library=/Library/Frameworks/R.framework/Resources/library --no-vignettes --timings ginmappeR_1.3.3.tar.gz StartedAt: 2025-02-03 20:05:23 -0500 (Mon, 03 Feb 2025) EndedAt: 2025-02-03 20:09:45 -0500 (Mon, 03 Feb 2025) EllapsedTime: 261.2 seconds RetCode: 0 Status: OK CheckDir: ginmappeR.Rcheck Warnings: 0