Package: ginmappeR Version: 1.3.3 Command: /Library/Frameworks/R.framework/Resources/bin/R CMD INSTALL ginmappeR StartedAt: 2025-02-03 15:44:58 -0500 (Mon, 03 Feb 2025) EndedAt: 2025-02-03 15:45:04 -0500 (Mon, 03 Feb 2025) EllapsedTime: 5.7 seconds RetCode: 0 Status: OK