Package: ginmappeR Version: 1.3.3 Command: /Library/Frameworks/R.framework/Resources/bin/R CMD build --keep-empty-dirs --no-resave-data ginmappeR StartedAt: 2025-02-03 16:56:27 -0500 (Mon, 03 Feb 2025) EndedAt: 2025-02-03 16:58:27 -0500 (Mon, 03 Feb 2025) EllapsedTime: 120.1 seconds RetCode: 0 Status: OK PackageFile: ginmappeR_1.3.3.tar.gz PackageFileSize: 674.1 KiB