Package: ginmappeR Version: 1.3.3 Command: /Library/Frameworks/R.framework/Resources/bin/R CMD INSTALL ginmappeR StartedAt: 2025-02-09 15:17:21 -0500 (Sun, 09 Feb 2025) EndedAt: 2025-02-09 15:17:44 -0500 (Sun, 09 Feb 2025) EllapsedTime: 22.6 seconds RetCode: 0 Status: OK