Package: ginmappeR Version: 1.3.3 Command: /home/biocbuild/bbs-3.21-bioc/R/bin/R CMD build --keep-empty-dirs --no-resave-data ginmappeR StartedAt: 2025-02-04 17:24:35 -0500 (Tue, 04 Feb 2025) EndedAt: 2025-02-04 17:26:02 -0500 (Tue, 04 Feb 2025) EllapsedTime: 87.1 seconds RetCode: 0 Status: OK PackageFile: ginmappeR_1.3.3.tar.gz PackageFileSize: 674 KiB