Package: ginmappeR Version: 1.3.3 Command: /home/biocbuild/bbs-3.21-bioc/R/bin/R CMD check --install=check:ginmappeR.install-out.txt --library=/home/biocbuild/bbs-3.21-bioc/R/site-library --timings ginmappeR_1.3.3.tar.gz StartedAt: 2025-02-04 22:46:18 -0500 (Tue, 04 Feb 2025) EndedAt: 2025-02-04 22:50:50 -0500 (Tue, 04 Feb 2025) EllapsedTime: 272.4 seconds RetCode: 0 Status: OK CheckDir: ginmappeR.Rcheck Warnings: 0