Package: ginmappeR Version: 1.3.3 Command: /home/biocbuild/bbs-3.21-bioc/R/bin/R CMD INSTALL ginmappeR StartedAt: 2025-02-04 15:29:35 -0500 (Tue, 04 Feb 2025) EndedAt: 2025-02-04 15:29:51 -0500 (Tue, 04 Feb 2025) EllapsedTime: 15.6 seconds RetCode: 0 Status: OK