Package: ginmappeR Version: 1.3.3 Command: chmod a+r ginmappeR -R && E:\biocbuild\bbs-3.21-bioc\R\bin\R.exe CMD build --keep-empty-dirs --no-resave-data ginmappeR StartedAt: 2025-02-03 19:11:47 -0500 (Mon, 03 Feb 2025) EndedAt: 2025-02-03 19:15:27 -0500 (Mon, 03 Feb 2025) EllapsedTime: 220.3 seconds RetCode: 0 Status: OK PackageFile: ginmappeR_1.3.3.tar.gz PackageFileSize: 674.2 KiB