Package: ginmappeR Version: 1.3.3 Command: E:\biocbuild\bbs-3.21-bioc\R\bin\R.exe CMD check --no-multiarch --install=check:ginmappeR.install-out.txt --library=E:\biocbuild\bbs-3.21-bioc\R\library --no-vignettes --timings ginmappeR_1.3.3.tar.gz StartedAt: 2025-02-10 01:36:39 -0500 (Mon, 10 Feb 2025) EndedAt: 2025-02-10 01:45:10 -0500 (Mon, 10 Feb 2025) EllapsedTime: 511.7 seconds RetCode: 0 Status: OK CheckDir: ginmappeR.Rcheck Warnings: 0