Package: ginmappeR Version: 1.3.3 Command: E:\biocbuild\bbs-3.21-bioc\R\bin\R.exe CMD INSTALL ginmappeR StartedAt: 2025-02-09 15:49:15 -0500 (Sun, 09 Feb 2025) EndedAt: 2025-02-09 15:50:06 -0500 (Sun, 09 Feb 2025) EllapsedTime: 51.2 seconds RetCode: 0 Status: OK