Package: glmGamPoi Version: 1.19.2 Command: rm -rf glmGamPoi.buildbin-libdir && mkdir glmGamPoi.buildbin-libdir && /Users/biocbuild/BBS/utils/build-universal.sh glmGamPoi_1.19.2.tar.gz /Library/Frameworks/R.framework/Resources/bin/R glmGamPoi.buildbin-libdir StartedAt: 2025-02-03 22:52:08 -0500 (Mon, 03 Feb 2025) EndedAt: 2025-02-03 22:52:27 -0500 (Mon, 03 Feb 2025) EllapsedTime: 19.4 seconds RetCode: 0 Status: OK PackageFile: glmGamPoi_1.19.2.tgz PackageFileSize: 1.84 MiB