Package: glmGamPoi Version: 1.19.2 Command: /Library/Frameworks/R.framework/Resources/bin/R CMD check --install=check:glmGamPoi.install-out.txt --library=/Library/Frameworks/R.framework/Resources/library --no-vignettes --timings glmGamPoi_1.19.2.tar.gz StartedAt: 2025-02-09 19:28:39 -0500 (Sun, 09 Feb 2025) EndedAt: 2025-02-09 19:29:51 -0500 (Sun, 09 Feb 2025) EllapsedTime: 71.9 seconds RetCode: 1 Status: ERROR CheckDir: glmGamPoi.Rcheck Warnings: NA