Package: glmGamPoi Version: 1.19.2 Command: /home/biocbuild/R/R/bin/R CMD build --keep-empty-dirs --no-resave-data glmGamPoi StartedAt: 2025-01-28 23:14:25 -0000 (Tue, 28 Jan 2025) EndedAt: 2025-01-28 23:24:39 -0000 (Tue, 28 Jan 2025) EllapsedTime: 614.2 seconds RetCode: 0 Status: OK PackageFile: glmGamPoi_1.19.2.tar.gz PackageFileSize: 1.819 MiB