Package: glmGamPoi Version: 1.19.2 Command: rm -rf glmGamPoi.buildbin-libdir && mkdir glmGamPoi.buildbin-libdir && /Users/biocbuild/BBS/utils/build-universal.sh glmGamPoi_1.19.2.tar.gz /Library/Frameworks/R.framework/Resources/bin/R glmGamPoi.buildbin-libdir StartedAt: 2025-02-04 00:36:49 -0500 (Tue, 04 Feb 2025) EndedAt: 2025-02-04 00:37:59 -0500 (Tue, 04 Feb 2025) EllapsedTime: 69.7 seconds RetCode: 0 Status: OK PackageFile: glmGamPoi_1.19.2.tgz PackageFileSize: 1.851 MiB