Package: glmGamPoi Version: 1.19.2 Command: /Library/Frameworks/R.framework/Resources/bin/R CMD build --keep-empty-dirs --no-resave-data glmGamPoi StartedAt: 2025-02-09 16:55:54 -0500 (Sun, 09 Feb 2025) EndedAt: 2025-02-09 17:06:02 -0500 (Sun, 09 Feb 2025) EllapsedTime: 607.8 seconds RetCode: 0 Status: OK PackageFile: glmGamPoi_1.19.2.tar.gz PackageFileSize: 2.085 MiB