Package: glmGamPoi Version: 1.19.2 Command: /Library/Frameworks/R.framework/Resources/bin/R CMD INSTALL glmGamPoi StartedAt: 2025-02-03 15:17:55 -0500 (Mon, 03 Feb 2025) EndedAt: 2025-02-03 15:18:58 -0500 (Mon, 03 Feb 2025) EllapsedTime: 63.5 seconds RetCode: 0 Status: OK