Package: glmGamPoi Version: 1.19.2 Command: /home/biocbuild/bbs-3.21-bioc/R/bin/R CMD build --keep-empty-dirs --no-resave-data glmGamPoi StartedAt: 2025-02-04 17:24:44 -0500 (Tue, 04 Feb 2025) EndedAt: 2025-02-04 17:32:22 -0500 (Tue, 04 Feb 2025) EllapsedTime: 457.4 seconds RetCode: 0 Status: OK PackageFile: glmGamPoi_1.19.2.tar.gz PackageFileSize: 2.095 MiB