Package: glmGamPoi Version: 1.19.2 Command: /home/biocbuild/bbs-3.21-bioc/R/bin/R CMD check --install=check:glmGamPoi.install-out.txt --library=/home/biocbuild/bbs-3.21-bioc/R/site-library --timings glmGamPoi_1.19.2.tar.gz StartedAt: 2025-02-04 22:46:47 -0500 (Tue, 04 Feb 2025) EndedAt: 2025-02-04 22:56:36 -0500 (Tue, 04 Feb 2025) EllapsedTime: 588.9 seconds RetCode: 1 Status: ERROR CheckDir: glmGamPoi.Rcheck Warnings: NA