Package: glmGamPoi Version: 1.19.2 Command: rm -rf glmGamPoi.buildbin-libdir && mkdir glmGamPoi.buildbin-libdir && E:\biocbuild\bbs-3.21-bioc\R\bin\R.exe CMD INSTALL --build --library=glmGamPoi.buildbin-libdir glmGamPoi_1.19.2.tar.gz StartedAt: 2025-02-10 07:51:52 -0500 (Mon, 10 Feb 2025) EndedAt: 2025-02-10 07:53:12 -0500 (Mon, 10 Feb 2025) EllapsedTime: 80.3 seconds RetCode: 0 Status: OK PackageFile: glmGamPoi_1.19.2.zip PackageFileSize: 1.735 MiB