Package: glmGamPoi Version: 1.19.2 Command: chmod a+r glmGamPoi -R && E:\biocbuild\bbs-3.21-bioc\R\bin\R.exe CMD build --keep-empty-dirs --no-resave-data glmGamPoi StartedAt: 2025-02-03 19:12:01 -0500 (Mon, 03 Feb 2025) EndedAt: 2025-02-03 19:25:11 -0500 (Mon, 03 Feb 2025) EllapsedTime: 790.2 seconds RetCode: 0 Status: OK PackageFile: glmGamPoi_1.19.2.tar.gz PackageFileSize: 1.679 MiB