Package: glmGamPoi Version: 1.19.2 Command: E:\biocbuild\bbs-3.21-bioc\R\bin\R.exe CMD check --no-multiarch --install=check:glmGamPoi.install-out.txt --library=E:\biocbuild\bbs-3.21-bioc\R\library --no-vignettes --timings glmGamPoi_1.19.2.tar.gz StartedAt: 2025-02-04 02:05:03 -0500 (Tue, 04 Feb 2025) EndedAt: 2025-02-04 02:09:59 -0500 (Tue, 04 Feb 2025) EllapsedTime: 296.1 seconds RetCode: 1 Status: ERROR CheckDir: glmGamPoi.Rcheck Warnings: NA