Package: glmGamPoi Version: 1.19.2 Command: E:\biocbuild\bbs-3.21-bioc\R\bin\R.exe CMD INSTALL glmGamPoi StartedAt: 2025-02-03 16:55:08 -0500 (Mon, 03 Feb 2025) EndedAt: 2025-02-03 16:56:26 -0500 (Mon, 03 Feb 2025) EllapsedTime: 77.8 seconds RetCode: 0 Status: OK