Package: glmSparseNet Version: 1.25.0 Command: /Library/Frameworks/R.framework/Resources/bin/R CMD build --keep-empty-dirs --no-resave-data glmSparseNet StartedAt: 2025-02-05 16:29:34 -0500 (Wed, 05 Feb 2025) EndedAt: 2025-02-05 16:31:53 -0500 (Wed, 05 Feb 2025) EllapsedTime: 138.4 seconds RetCode: 0 Status: OK PackageFile: glmSparseNet_1.25.0.tar.gz PackageFileSize: 2.803 MiB