Package: glmSparseNet Version: 1.25.0 Command: /Library/Frameworks/R.framework/Resources/bin/R CMD check --install=check:glmSparseNet.install-out.txt --library=/Library/Frameworks/R.framework/Resources/library --no-vignettes --timings glmSparseNet_1.25.0.tar.gz StartedAt: 2025-02-05 19:34:42 -0500 (Wed, 05 Feb 2025) EndedAt: 2025-02-05 19:35:29 -0500 (Wed, 05 Feb 2025) EllapsedTime: 46.6 seconds RetCode: 0 Status: OK CheckDir: glmSparseNet.Rcheck Warnings: 0