Package: glmSparseNet Version: 1.25.0 Command: /Library/Frameworks/R.framework/Resources/bin/R CMD INSTALL glmSparseNet StartedAt: 2025-02-05 15:28:03 -0500 (Wed, 05 Feb 2025) EndedAt: 2025-02-05 15:28:05 -0500 (Wed, 05 Feb 2025) EllapsedTime: 2.1 seconds RetCode: 0 Status: OK