Package: glmSparseNet Version: 1.25.0 Command: /home/biocbuild/R/R/bin/R CMD build --keep-empty-dirs --no-resave-data glmSparseNet StartedAt: 2025-01-28 23:14:26 -0000 (Tue, 28 Jan 2025) EndedAt: 2025-01-28 23:20:23 -0000 (Tue, 28 Jan 2025) EllapsedTime: 357.1 seconds RetCode: 0 Status: OK PackageFile: glmSparseNet_1.25.0.tar.gz PackageFileSize: 2.219 MiB