Package: glmSparseNet Version: 1.25.0 Command: /home/biocbuild/R/R/bin/R CMD INSTALL glmSparseNet StartedAt: 2025-01-29 20:33:34 -0000 (Wed, 29 Jan 2025) EndedAt: 2025-01-29 20:33:39 -0000 (Wed, 29 Jan 2025) EllapsedTime: 4.2 seconds RetCode: 0 Status: OK