Package: glmSparseNet Version: 1.25.0 Command: /home/biocbuild/bbs-3.21-bioc/R/bin/R CMD check --install=check:glmSparseNet.install-out.txt --library=/home/biocbuild/bbs-3.21-bioc/R/site-library --timings glmSparseNet_1.25.0.tar.gz StartedAt: 2025-02-05 22:49:46 -0500 (Wed, 05 Feb 2025) EndedAt: 2025-02-05 22:56:39 -0500 (Wed, 05 Feb 2025) EllapsedTime: 412.5 seconds RetCode: 0 Status: OK CheckDir: glmSparseNet.Rcheck Warnings: 0