Package: glmSparseNet Version: 1.25.0 Command: /home/biocbuild/bbs-3.21-bioc/R/bin/R CMD INSTALL glmSparseNet StartedAt: 2025-02-05 15:41:55 -0500 (Wed, 05 Feb 2025) EndedAt: 2025-02-05 15:41:58 -0500 (Wed, 05 Feb 2025) EllapsedTime: 3.7 seconds RetCode: 0 Status: OK