Package: glmSparseNet Version: 1.25.0 Command: chmod a+r glmSparseNet -R && E:\biocbuild\bbs-3.21-bioc\R\bin\R.exe CMD build --keep-empty-dirs --no-resave-data glmSparseNet StartedAt: 2025-02-05 19:05:03 -0500 (Wed, 05 Feb 2025) EndedAt: 2025-02-05 19:12:10 -0500 (Wed, 05 Feb 2025) EllapsedTime: 427.7 seconds RetCode: 0 Status: OK PackageFile: glmSparseNet_1.25.0.tar.gz PackageFileSize: 1.96 MiB