Package: glmSparseNet Version: 1.25.0 Command: E:\biocbuild\bbs-3.21-bioc\R\bin\R.exe CMD INSTALL glmSparseNet StartedAt: 2025-02-05 17:02:55 -0500 (Wed, 05 Feb 2025) EndedAt: 2025-02-05 17:03:31 -0500 (Wed, 05 Feb 2025) EllapsedTime: 35.7 seconds RetCode: 0 Status: OK