Package: globalSeq Version: 1.35.0 Command: rm -rf globalSeq.buildbin-libdir && mkdir globalSeq.buildbin-libdir && /Users/biocbuild/BBS/utils/build-universal.sh globalSeq_1.35.0.tar.gz /Library/Frameworks/R.framework/Resources/bin/R globalSeq.buildbin-libdir StartedAt: 2025-02-09 22:16:18 -0500 (Sun, 09 Feb 2025) EndedAt: 2025-02-09 22:16:21 -0500 (Sun, 09 Feb 2025) EllapsedTime: 2.0 seconds RetCode: 0 Status: OK PackageFile: globalSeq_1.35.0.tgz PackageFileSize: 711.3 KiB