Package: globalSeq Version: 1.35.0 Command: /Library/Frameworks/R.framework/Resources/bin/R CMD INSTALL globalSeq StartedAt: 2025-02-09 15:01:12 -0500 (Sun, 09 Feb 2025) EndedAt: 2025-02-09 15:01:14 -0500 (Sun, 09 Feb 2025) EllapsedTime: 2.5 seconds RetCode: 0 Status: OK