Package: globalSeq Version: 1.35.0 Command: /home/biocbuild/R/R/bin/R CMD check --install=check:globalSeq.install-out.txt --library=/home/biocbuild/R/R/site-library --no-vignettes --timings globalSeq_1.35.0.tar.gz StartedAt: 2025-01-28 11:09:17 -0000 (Tue, 28 Jan 2025) EndedAt: 2025-01-28 11:10:02 -0000 (Tue, 28 Jan 2025) EllapsedTime: 45.0 seconds RetCode: 0 Status: OK CheckDir: globalSeq.Rcheck Warnings: 0