Package: globalSeq Version: 1.35.0 Command: /home/biocbuild/R/R/bin/R CMD INSTALL globalSeq StartedAt: 2025-01-29 19:30:14 -0000 (Wed, 29 Jan 2025) EndedAt: 2025-01-29 19:30:43 -0000 (Wed, 29 Jan 2025) EllapsedTime: 28.7 seconds RetCode: 0 Status: OK