Package: globalSeq Version: 1.35.0 Command: rm -rf globalSeq.buildbin-libdir && mkdir globalSeq.buildbin-libdir && /Users/biocbuild/BBS/utils/build-universal.sh globalSeq_1.35.0.tar.gz /Library/Frameworks/R.framework/Resources/bin/R globalSeq.buildbin-libdir StartedAt: 2025-02-10 00:56:12 -0500 (Mon, 10 Feb 2025) EndedAt: 2025-02-10 00:56:19 -0500 (Mon, 10 Feb 2025) EllapsedTime: 7.0 seconds RetCode: 0 Status: OK PackageFile: globalSeq_1.35.0.tgz PackageFileSize: 710.9 KiB