Package: globalSeq Version: 1.35.0 Command: /Library/Frameworks/R.framework/Resources/bin/R CMD build --keep-empty-dirs --no-resave-data globalSeq StartedAt: 2025-02-09 16:55:58 -0500 (Sun, 09 Feb 2025) EndedAt: 2025-02-09 16:56:18 -0500 (Sun, 09 Feb 2025) EllapsedTime: 19.5 seconds RetCode: 0 Status: OK PackageFile: globalSeq_1.35.0.tar.gz PackageFileSize: 714.5 KiB