Package: globalSeq Version: 1.35.0 Command: E:\biocbuild\bbs-3.21-bioc\R\bin\R.exe CMD check --no-multiarch --install=check:globalSeq.install-out.txt --library=E:\biocbuild\bbs-3.21-bioc\R\library --no-vignettes --timings globalSeq_1.35.0.tar.gz StartedAt: 2025-02-10 01:37:45 -0500 (Mon, 10 Feb 2025) EndedAt: 2025-02-10 01:38:41 -0500 (Mon, 10 Feb 2025) EllapsedTime: 55.9 seconds RetCode: 0 Status: OK CheckDir: globalSeq.Rcheck Warnings: 0