Package: globaltest Version: 5.61.0 Command: /Library/Frameworks/R.framework/Resources/bin/R CMD build --keep-empty-dirs --no-resave-data globaltest StartedAt: 2025-02-10 16:29:09 -0500 (Mon, 10 Feb 2025) EndedAt: 2025-02-10 17:09:09 -0500 (Mon, 10 Feb 2025) EllapsedTime: 2400.2 seconds RetCode: None Status: TIMEOUT PackageFile: None PackageFileSize: NA