Package: globaltest Version: 5.61.0 Command: /Library/Frameworks/R.framework/Resources/bin/R CMD INSTALL globaltest StartedAt: 2025-02-10 15:21:51 -0500 (Mon, 10 Feb 2025) EndedAt: 2025-02-10 15:22:01 -0500 (Mon, 10 Feb 2025) EllapsedTime: 9.1 seconds RetCode: 0 Status: OK