Package: globaltest Version: 5.61.0 Command: /home/biocbuild/R/R/bin/R CMD build --keep-empty-dirs --no-resave-data globaltest StartedAt: 2025-01-28 23:15:13 -0000 (Tue, 28 Jan 2025) EndedAt: 2025-01-28 23:21:05 -0000 (Tue, 28 Jan 2025) EllapsedTime: 352.1 seconds RetCode: 0 Status: OK PackageFile: globaltest_5.61.0.tar.gz PackageFileSize: 545.1 KiB