Package: globaltest Version: 5.61.0 Command: rm -rf globaltest.buildbin-libdir && mkdir globaltest.buildbin-libdir && /Users/biocbuild/BBS/utils/build-universal.sh globaltest_5.61.0.tar.gz /Library/Frameworks/R.framework/Resources/bin/R globaltest.buildbin-libdir StartedAt: 2025-02-10 00:56:13 -0500 (Mon, 10 Feb 2025) EndedAt: 2025-02-10 00:56:49 -0500 (Mon, 10 Feb 2025) EllapsedTime: 35.8 seconds RetCode: 0 Status: OK PackageFile: globaltest_5.61.0.tgz PackageFileSize: 1.123 MiB