Package: globaltest Version: 5.61.0 Command: /Library/Frameworks/R.framework/Resources/bin/R CMD build --keep-empty-dirs --no-resave-data globaltest StartedAt: 2025-02-09 16:55:58 -0500 (Sun, 09 Feb 2025) EndedAt: 2025-02-09 17:00:07 -0500 (Sun, 09 Feb 2025) EllapsedTime: 248.8 seconds RetCode: 0 Status: OK PackageFile: globaltest_5.61.0.tar.gz PackageFileSize: 558.2 KiB