Package: globaltest Version: 5.61.0 Command: /home/biocbuild/bbs-3.21-bioc/R/bin/R CMD check --install=check:globaltest.install-out.txt --library=/home/biocbuild/bbs-3.21-bioc/R/site-library --timings globaltest_5.61.0.tar.gz StartedAt: 2025-02-09 22:48:01 -0500 (Sun, 09 Feb 2025) EndedAt: 2025-02-09 22:53:25 -0500 (Sun, 09 Feb 2025) EllapsedTime: 324.4 seconds RetCode: 0 Status: OK CheckDir: globaltest.Rcheck Warnings: 0