Package: globaltest Version: 5.61.0 Command: /home/biocbuild/bbs-3.21-bioc/R/bin/R CMD INSTALL globaltest StartedAt: 2025-02-09 15:27:20 -0500 (Sun, 09 Feb 2025) EndedAt: 2025-02-09 15:27:43 -0500 (Sun, 09 Feb 2025) EllapsedTime: 22.1 seconds RetCode: 0 Status: OK