Package: globaltest Version: 5.61.0 Command: rm -rf globaltest.buildbin-libdir && mkdir globaltest.buildbin-libdir && E:\biocbuild\bbs-3.21-bioc\R\bin\R.exe CMD INSTALL --build --library=globaltest.buildbin-libdir globaltest_5.61.0.tar.gz StartedAt: 2025-02-11 08:04:39 -0500 (Tue, 11 Feb 2025) EndedAt: 2025-02-11 08:05:59 -0500 (Tue, 11 Feb 2025) EllapsedTime: 80.7 seconds RetCode: 0 Status: OK PackageFile: globaltest_5.61.0.zip PackageFileSize: 1.128 MiB