Package: globaltest Version: 5.61.0 Command: chmod a+r globaltest -R && E:\biocbuild\bbs-3.21-bioc\R\bin\R.exe CMD build --keep-empty-dirs --no-resave-data globaltest StartedAt: 2025-02-10 19:10:35 -0500 (Mon, 10 Feb 2025) EndedAt: 2025-02-10 19:15:12 -0500 (Mon, 10 Feb 2025) EllapsedTime: 276.7 seconds RetCode: 0 Status: OK PackageFile: globaltest_5.61.0.tar.gz PackageFileSize: 562.8 KiB